BEGIN:VCALENDAR
VERSION:2.0
PRODID:-//hacksw/handcal//NONSGML v1.0//EN
BEGIN:VEVENT
DTSTART:20250515T180000
DTEND:20250515T235500
LOCATION:Salle Gaveau \n45 rue de la Boétie \n75008 Paris
ORGANIZER;CN=Léa Thil:MAILTO:l.thil@lescommunicants.fr
SUMMARY:Cérémonie des 38es Grands Prix de la Communication
DESCRIPTION:\nLa cérémonie des 38es Grands Prix de la Communication 2025 approche ! 🏆\nChaque année, cet événement phare de l'association, réunit la communauté des communicants pour célébrer la créativité,...
URL:https://lescommunicants.fr/fr/event/ceremonie-des-38es-grands-prix-de-la-communication/2025/05/15/299
BEGIN:VALARM
TRIGGER:-P0DT1H0M0S
ACTION:DISPLAY
END:VALARM
END:VEVENT
END:VCALENDAR