BEGIN:VCALENDAR
VERSION:2.0
PRODID:-//hacksw/handcal//NONSGML v1.0//EN
BEGIN:VEVENT
DTSTART:20260512T090000
DTEND:20260512T100000
LOCATION:
ORGANIZER;CN=Mélissa Aubert:MAILTO:m.aubert@lescommunicants.fr
SUMMARY:SCÈNE OUVERTE / Protéger votre entreprise contre la désinformation à l'ère de l'IA générative
DESCRIPTION:En 2025, la désinformation n'est plus un simple risque réputationnel, c'est une menace existentielle pour les entreprises. L'essor fulgurant de l'IA générative a démultiplié les capacités des acteurs ...
URL:https://lescommunicants.fr/fr/event/scene-ouverte-proteger-votre-entreprise-contre-la-desinformation-a-l-ere-de-l-ia-generative/2026/05/12/400
BEGIN:VALARM
TRIGGER:-P0DT1H0M0S
ACTION:DISPLAY
END:VALARM
END:VEVENT
END:VCALENDAR