BEGIN:VCALENDAR
VERSION:2.0
PRODID:-//hacksw/handcal//NONSGML v1.0//EN
BEGIN:VEVENT
DTSTART:20261016T090000
DTEND:20261016T120000
LOCATION:
ORGANIZER;CN=Clara Bonnefous:MAILTO:c.bonnefous@lescommunicants.fr
SUMMARY:FORMATION / 180 min pour écrire un pitch impactant
DESCRIPTION:\nConstruire un pitch efficace : clair, crédible, et prêt à être utilisé.\nLes objectifs\nLe formateur> Construire un pitch clair, structuré et crédible (90 s + 30 s)> Savoir intégrer des preuves>...
URL:https://lescommunicants.fr/fr/event/formation-180-min-pour-ecrire-un-pitch-impactant/2026/10/16/406
BEGIN:VALARM
TRIGGER:-P0DT1H0M0S
ACTION:DISPLAY
END:VALARM
END:VEVENT
END:VCALENDAR