BEGIN:VCALENDAR
VERSION:2.0
PRODID:-//hacksw/handcal//NONSGML v1.0//EN
BEGIN:VEVENT
DTSTART:20260529T090000
DTEND:20260529T120000
LOCATION:https://meet.google.com/xxt-pxns-mwu
ORGANIZER;CN=Clara Bonnefous:MAILTO:c.bonnefous@lescommunicants.fr
SUMMARY:FORMATION / 180 minutes pour comprendre le GEO, le SEO de l'IA générative
DESCRIPTION:\nDécouvrez les points communs et différences entre SEO et GEO et comprenez pourquoi le GEO est un levier stratégique essentiel pour les marques.Explorez son impact transversal sur les fonctions...
URL:https://lescommunicants.fr/fr/event/formation-180-minutes-pour-comprendre-le-geo-le-seo-de-l-ia-generative/2026/05/29/417
BEGIN:VALARM
TRIGGER:-P0DT1H0M0S
ACTION:DISPLAY
END:VALARM
END:VEVENT
END:VCALENDAR