BEGIN:VCALENDAR
VERSION:2.0
PRODID:-//hacksw/handcal//NONSGML v1.0//EN
BEGIN:VEVENT
DTSTART:20260930T090000
DTEND:20260930T170000
LOCATION:La Maison des Communicants \n23 Rue la Boétie \n75008 Paris
ORGANIZER;CN=Clara Bonnefous:MAILTO:c.bonnefous@lescommunicants.fr
SUMMARY:FORMATION / Comprendre la désinformation complotiste
DESCRIPTION:\nLe complotisme est devenu ces deux dernières décennies un sujet incontournable. Phénomène à la fois médiatique et sociologique, son retour massif en lien avec l’essor de « l’économie de l’attention ...
URL:https://lescommunicants.fr/fr/event/formation-comprendre-la-desinformation-complotiste/2026/09/30/421
BEGIN:VALARM
TRIGGER:-P0DT1H0M0S
ACTION:DISPLAY
END:VALARM
END:VEVENT
END:VCALENDAR